BEGIN:VCALENDAR
VERSION:2.0
PRODID:-//La Pistouflerie - ECPv6.15.20//NONSGML v1.0//EN
CALSCALE:GREGORIAN
METHOD:PUBLISH
X-ORIGINAL-URL:https://lapistouflerie.com
X-WR-CALDESC:Évènements pour La Pistouflerie
REFRESH-INTERVAL;VALUE=DURATION:PT1H
X-Robots-Tag:noindex
X-PUBLISHED-TTL:PT1H
BEGIN:VTIMEZONE
TZID:Europe/Paris
BEGIN:DAYLIGHT
TZOFFSETFROM:+0100
TZOFFSETTO:+0200
TZNAME:CEST
DTSTART:20250330T010000
END:DAYLIGHT
BEGIN:STANDARD
TZOFFSETFROM:+0200
TZOFFSETTO:+0100
TZNAME:CET
DTSTART:20251026T010000
END:STANDARD
BEGIN:DAYLIGHT
TZOFFSETFROM:+0100
TZOFFSETTO:+0200
TZNAME:CEST
DTSTART:20260329T010000
END:DAYLIGHT
BEGIN:STANDARD
TZOFFSETFROM:+0200
TZOFFSETTO:+0100
TZNAME:CET
DTSTART:20261025T010000
END:STANDARD
BEGIN:DAYLIGHT
TZOFFSETFROM:+0100
TZOFFSETTO:+0200
TZNAME:CEST
DTSTART:20270328T010000
END:DAYLIGHT
BEGIN:STANDARD
TZOFFSETFROM:+0200
TZOFFSETTO:+0100
TZNAME:CET
DTSTART:20271031T010000
END:STANDARD
END:VTIMEZONE
BEGIN:VEVENT
DTSTART;TZID=Europe/Paris:20260502T210000
DTEND;TZID=Europe/Paris:20260502T233000
DTSTAMP:20260421T101246
CREATED:20260323T081107Z
LAST-MODIFIED:20260323T081107Z
UID:1687-1777755600-1777764600@lapistouflerie.com
SUMMARY:Electro Kora
DESCRIPTION:AFRO-MANDINGUE FUSION \nElektro Kora réunit depuis 2022 plusieurs artistes musiciens expérimentés\, autours des dernières compositions de Zaky Diarra\, donnant vie à un cocktail de fusion afro-mandingue et de musique occidentale\, dans un style métissé unique aux airs d’afro-beat\, de blues du désert\, de groove ou bien encore de funk. Le mélange de finesse des notes et de rythmes dansants donne un charme envoûtant au répertoire\, entraînant le public dans cette atmosphère de voyage entre ici et ailleurs. Une aventure musicale et humaine pleine de message pour ne pas oublier que la musique est faite pour rapprocher les gens. Elektro Kora est d’ailleurs plus qu’un projet\, c’est avant tout une famille\, ensemble pour vivre la musique et la partager avec sincérité et respect\, partout où la scène les entraîne. \n  \nhttps://www.facebook.com/people/Electro-Kora/61550945078883/  \nhttps://www.youtube.com/watch?v=hAT6CysoIXc  \nhttps://www.instagram.com/elektro.kora/ 
URL:https://lapistouflerie.com/index.php/programmation/electro-kora/
LOCATION:La Pistouflerie\, Cassagnabère-Tournas\, 31420\, France
ATTACH;FMTTYPE=image/jpeg:https://lapistouflerie.com/wp-content/uploads/2026/03/ELEKTRO-KORA-Photo-Trio-scaled.jpg
ORGANIZER;CN="La Pistouflerie":MAILTO:lapistouflerie@gmail.com
END:VEVENT
END:VCALENDAR