BEGIN:VCALENDAR
VERSION:2.0
PRODID:-//La Pistouflerie - ECPv6.15.20//NONSGML v1.0//EN
CALSCALE:GREGORIAN
METHOD:PUBLISH
X-ORIGINAL-URL:https://lapistouflerie.com
X-WR-CALDESC:Évènements pour La Pistouflerie
REFRESH-INTERVAL;VALUE=DURATION:PT1H
X-Robots-Tag:noindex
X-PUBLISHED-TTL:PT1H
BEGIN:VTIMEZONE
TZID:Europe/Paris
BEGIN:DAYLIGHT
TZOFFSETFROM:+0100
TZOFFSETTO:+0200
TZNAME:CEST
DTSTART:20250330T010000
END:DAYLIGHT
BEGIN:STANDARD
TZOFFSETFROM:+0200
TZOFFSETTO:+0100
TZNAME:CET
DTSTART:20251026T010000
END:STANDARD
BEGIN:DAYLIGHT
TZOFFSETFROM:+0100
TZOFFSETTO:+0200
TZNAME:CEST
DTSTART:20260329T010000
END:DAYLIGHT
BEGIN:STANDARD
TZOFFSETFROM:+0200
TZOFFSETTO:+0100
TZNAME:CET
DTSTART:20261025T010000
END:STANDARD
BEGIN:DAYLIGHT
TZOFFSETFROM:+0100
TZOFFSETTO:+0200
TZNAME:CEST
DTSTART:20270328T010000
END:DAYLIGHT
BEGIN:STANDARD
TZOFFSETFROM:+0200
TZOFFSETTO:+0100
TZNAME:CET
DTSTART:20271031T010000
END:STANDARD
END:VTIMEZONE
BEGIN:VEVENT
DTSTART;TZID=Europe/Paris:20260613T210000
DTEND;TZID=Europe/Paris:20260613T233000
DTSTAMP:20260421T145526
CREATED:20260323T075228Z
LAST-MODIFIED:20260323T075228Z
UID:1657-1781384400-1781393400@lapistouflerie.com
SUMMARY:GiGiGi
DESCRIPTION:ALTERNATIVE ROCK JAZZ FONDANT \nGiGiGi tisse un son singulier où clarinettes basses\, guitares électriques et batteries s’entrelacent. Trois voix douces\, des rythmes frénétiques\, des mélodies pop et une tension constante entre douceur et chaos. Inspiré·es par Aphex Twin\, James Blake et Sam Gendel\, GiGiGi invente un langage libre\, imprévisible et intensément personnel. \n  \nhttps://www.youtube.com/watch?v=tVOIrbH8vk8 \nhttps://www.youtube.com/watch?v=X_5V7R6sRvU  \nhttps://soundcloud.com/gigigi-musique/sets/pappapero  \nhttps://soundcloud.com/gigigi-musique/03-eea_master-3?in=gigigi-musique/sets/pappapero  \nhttps://www.instagram.com/gigigi.igigig/  \n 
URL:https://lapistouflerie.com/index.php/programmation/gigigi/
LOCATION:La Pistouflerie\, Cassagnabère-Tournas\, 31420\, France
ATTACH;FMTTYPE=image/jpeg:https://lapistouflerie.com/wp-content/uploads/2026/03/Gigigi-scaled.jpg
ORGANIZER;CN="La Pistouflerie":MAILTO:lapistouflerie@gmail.com
END:VEVENT
END:VCALENDAR