BEGIN:VCALENDAR
VERSION:2.0
PRODID:-//La Pistouflerie - ECPv6.15.20//NONSGML v1.0//EN
CALSCALE:GREGORIAN
METHOD:PUBLISH
X-WR-CALNAME:La Pistouflerie
X-ORIGINAL-URL:https://lapistouflerie.com
X-WR-CALDESC:Évènements pour La Pistouflerie
REFRESH-INTERVAL;VALUE=DURATION:PT1H
X-Robots-Tag:noindex
X-PUBLISHED-TTL:PT1H
BEGIN:VTIMEZONE
TZID:Europe/Paris
BEGIN:DAYLIGHT
TZOFFSETFROM:+0100
TZOFFSETTO:+0200
TZNAME:CEST
DTSTART:20250330T010000
END:DAYLIGHT
BEGIN:STANDARD
TZOFFSETFROM:+0200
TZOFFSETTO:+0100
TZNAME:CET
DTSTART:20251026T010000
END:STANDARD
BEGIN:DAYLIGHT
TZOFFSETFROM:+0100
TZOFFSETTO:+0200
TZNAME:CEST
DTSTART:20260329T010000
END:DAYLIGHT
BEGIN:STANDARD
TZOFFSETFROM:+0200
TZOFFSETTO:+0100
TZNAME:CET
DTSTART:20261025T010000
END:STANDARD
BEGIN:DAYLIGHT
TZOFFSETFROM:+0100
TZOFFSETTO:+0200
TZNAME:CEST
DTSTART:20270328T010000
END:DAYLIGHT
BEGIN:STANDARD
TZOFFSETFROM:+0200
TZOFFSETTO:+0100
TZNAME:CET
DTSTART:20271031T010000
END:STANDARD
END:VTIMEZONE
BEGIN:VEVENT
DTSTART;TZID=Europe/Paris:20260425T210000
DTEND;TZID=Europe/Paris:20260425T233000
DTSTAMP:20260421T131127
CREATED:20260323T081925Z
LAST-MODIFIED:20260323T081925Z
UID:1698-1777150800-1777159800@lapistouflerie.com
SUMMARY:Catman
DESCRIPTION:ÉLECTRO-FUNK & VIBRATIONS ANCESTRALES \nCatman fusionne basse\, machines et percussions vibratoires pour un groove hypnotique \net festif. Une expérience vivante où l’électro-funk devient transe collective. \n  \nhttps://www.youtube.com/watch?v=m_N5ZxOe29c  \nhttps://www.youtube.com/watch?v=kqbPoNKSVGg  \nhttps://www.youtube.com/watch?v=tQsNRrI2EmQ  \nhttps://www.youtube.com/watch?v=tQsNRrI2EmQ  \nhttps://www.youtube.com/watch?v=W5AT2WJqHjo 
URL:https://lapistouflerie.com/index.php/programmation/catman/
LOCATION:La Pistouflerie\, Cassagnabère-Tournas\, 31420\, France
ATTACH;FMTTYPE=image/jpeg:https://lapistouflerie.com/wp-content/uploads/2026/03/CATMAN-2.jpg
ORGANIZER;CN="La Pistouflerie":MAILTO:lapistouflerie@gmail.com
END:VEVENT
END:VCALENDAR