BEGIN:VCALENDAR
VERSION:2.0
PRODID:-//La Pistouflerie - ECPv6.15.20//NONSGML v1.0//EN
CALSCALE:GREGORIAN
METHOD:PUBLISH
X-WR-CALNAME:La Pistouflerie
X-ORIGINAL-URL:https://lapistouflerie.com
X-WR-CALDESC:Évènements pour La Pistouflerie
REFRESH-INTERVAL;VALUE=DURATION:PT1H
X-Robots-Tag:noindex
X-PUBLISHED-TTL:PT1H
BEGIN:VTIMEZONE
TZID:Europe/Paris
BEGIN:DAYLIGHT
TZOFFSETFROM:+0100
TZOFFSETTO:+0200
TZNAME:CEST
DTSTART:20250330T010000
END:DAYLIGHT
BEGIN:STANDARD
TZOFFSETFROM:+0200
TZOFFSETTO:+0100
TZNAME:CET
DTSTART:20251026T010000
END:STANDARD
BEGIN:DAYLIGHT
TZOFFSETFROM:+0100
TZOFFSETTO:+0200
TZNAME:CEST
DTSTART:20260329T010000
END:DAYLIGHT
BEGIN:STANDARD
TZOFFSETFROM:+0200
TZOFFSETTO:+0100
TZNAME:CET
DTSTART:20261025T010000
END:STANDARD
BEGIN:DAYLIGHT
TZOFFSETFROM:+0100
TZOFFSETTO:+0200
TZNAME:CEST
DTSTART:20270328T010000
END:DAYLIGHT
BEGIN:STANDARD
TZOFFSETFROM:+0200
TZOFFSETTO:+0100
TZNAME:CET
DTSTART:20271031T010000
END:STANDARD
END:VTIMEZONE
BEGIN:VEVENT
DTSTART;TZID=Europe/Paris:20260516T160000
DTEND;TZID=Europe/Paris:20260516T180000
DTSTAMP:20260421T142009
CREATED:20260323T081543Z
LAST-MODIFIED:20260323T081543Z
UID:1692-1778947200-1778954400@lapistouflerie.com
SUMMARY:LIRE ECRIRE CONTER
DESCRIPTION:Vous rêvez d’une (petite) tribune bienveillante pour lire vos textes ? Vous souhaitez partager un passage de ce livre qui vous a\, touché\, transporté\, ému ou fait réfléchir. Vous vous sentez conteur d’histoires ? Vous avez encore au fond de vous cet enfant qui adorait en écouter ? Lire Ecrire Conter est fait pour vous.
URL:https://lapistouflerie.com/index.php/programmation/lire-ecrire-conter/
LOCATION:La Pistouflerie\, Cassagnabère-Tournas\, 31420\, France
ATTACH;FMTTYPE=image/png:https://lapistouflerie.com/wp-content/uploads/2025/02/Lire-ecrire-conter.png
ORGANIZER;CN="La Pistouflerie":MAILTO:lapistouflerie@gmail.com
END:VEVENT
END:VCALENDAR