BEGIN:VCALENDAR
VERSION:2.0
PRODID:-//La Pistouflerie - ECPv6.15.20//NONSGML v1.0//EN
CALSCALE:GREGORIAN
METHOD:PUBLISH
X-WR-CALNAME:La Pistouflerie
X-ORIGINAL-URL:https://lapistouflerie.com
X-WR-CALDESC:Évènements pour La Pistouflerie
REFRESH-INTERVAL;VALUE=DURATION:PT1H
X-Robots-Tag:noindex
X-PUBLISHED-TTL:PT1H
BEGIN:VTIMEZONE
TZID:Europe/Paris
BEGIN:DAYLIGHT
TZOFFSETFROM:+0100
TZOFFSETTO:+0200
TZNAME:CEST
DTSTART:20250330T010000
END:DAYLIGHT
BEGIN:STANDARD
TZOFFSETFROM:+0200
TZOFFSETTO:+0100
TZNAME:CET
DTSTART:20251026T010000
END:STANDARD
BEGIN:DAYLIGHT
TZOFFSETFROM:+0100
TZOFFSETTO:+0200
TZNAME:CEST
DTSTART:20260329T010000
END:DAYLIGHT
BEGIN:STANDARD
TZOFFSETFROM:+0200
TZOFFSETTO:+0100
TZNAME:CET
DTSTART:20261025T010000
END:STANDARD
BEGIN:DAYLIGHT
TZOFFSETFROM:+0100
TZOFFSETTO:+0200
TZNAME:CEST
DTSTART:20270328T010000
END:DAYLIGHT
BEGIN:STANDARD
TZOFFSETFROM:+0200
TZOFFSETTO:+0100
TZNAME:CET
DTSTART:20271031T010000
END:STANDARD
END:VTIMEZONE
BEGIN:VEVENT
DTSTART;TZID=Europe/Paris:20260523T210000
DTEND;TZID=Europe/Paris:20260523T233000
DTSTAMP:20260421T130908
CREATED:20260323T080157Z
LAST-MODIFIED:20260323T080157Z
UID:1672-1779570000-1779579000@lapistouflerie.com
SUMMARY:Boom Tchack Family
DESCRIPTION:REGGAE \nLa Boom Tchack Family\, c’est un collectif de reggae aux influences roots\, new roots\, et rub-a-dub\, straight from Comminges ! On se retrouve toutes les semaines depuis 4 ans pour des sessions enflammées de jam\, tout en impro\, des chants composés par les chanteurs Zayan-I et Gilman\, calés tantôt sur des classiques riddims jamaïcains\, tantôt sur des créations du groupe. Le collectif sort de sa grotte pour partager le plaisir de jouer avec le public ! La politique Boom Tchack\, c’est de la musique live\, et des ambiances qui se construisent sur scène à la demande des chanteurs ! Venez remuer au doux son du reggae ! \n  \nhttps://www.facebook.com/boom.tchack.family
URL:https://lapistouflerie.com/index.php/programmation/boom-tchack-family/
LOCATION:La Pistouflerie\, Cassagnabère-Tournas\, 31420\, France
ATTACH;FMTTYPE=image/png:https://lapistouflerie.com/wp-content/uploads/2026/03/Boom-Tchack-Family-1.png
ORGANIZER;CN="La Pistouflerie":MAILTO:lapistouflerie@gmail.com
END:VEVENT
END:VCALENDAR