BEGIN:VCALENDAR
VERSION:2.0
PRODID:-//La Pistouflerie - ECPv6.15.20//NONSGML v1.0//EN
CALSCALE:GREGORIAN
METHOD:PUBLISH
X-WR-CALNAME:La Pistouflerie
X-ORIGINAL-URL:https://lapistouflerie.com
X-WR-CALDESC:Évènements pour La Pistouflerie
REFRESH-INTERVAL;VALUE=DURATION:PT1H
X-Robots-Tag:noindex
X-PUBLISHED-TTL:PT1H
BEGIN:VTIMEZONE
TZID:Europe/Paris
BEGIN:DAYLIGHT
TZOFFSETFROM:+0100
TZOFFSETTO:+0200
TZNAME:CEST
DTSTART:20250330T010000
END:DAYLIGHT
BEGIN:STANDARD
TZOFFSETFROM:+0200
TZOFFSETTO:+0100
TZNAME:CET
DTSTART:20251026T010000
END:STANDARD
BEGIN:DAYLIGHT
TZOFFSETFROM:+0100
TZOFFSETTO:+0200
TZNAME:CEST
DTSTART:20260329T010000
END:DAYLIGHT
BEGIN:STANDARD
TZOFFSETFROM:+0200
TZOFFSETTO:+0100
TZNAME:CET
DTSTART:20261025T010000
END:STANDARD
BEGIN:DAYLIGHT
TZOFFSETFROM:+0100
TZOFFSETTO:+0200
TZNAME:CEST
DTSTART:20270328T010000
END:DAYLIGHT
BEGIN:STANDARD
TZOFFSETFROM:+0200
TZOFFSETTO:+0100
TZNAME:CET
DTSTART:20271031T010000
END:STANDARD
END:VTIMEZONE
BEGIN:VEVENT
DTSTART;TZID=Europe/Paris:20260606T210000
DTEND;TZID=Europe/Paris:20260606T233000
DTSTAMP:20260420T122052
CREATED:20260323T075551Z
LAST-MODIFIED:20260323T075551Z
UID:1662-1780779600-1780788600@lapistouflerie.com
SUMMARY:The Pomodors
DESCRIPTION:RYTHM’N’SOUL ENJAILLANTE \nThe Pomodors propose un mélange explosif de rythm’n’soul ! Entre tubes planétaires et pépites oubliées de la grande époque du 45 tours\, le quatuor livre une interprétation énergique du répertoire afro-américain des années 1960-70. Un voyage aux racines de la soul music et du rythm’n’blues qui nous amène forcément sur les territoires torrides de la funk et du rock’n’roll… Une chanteuse\, un trio de choristes\, basse\, batterie\, guitare : pas besoin de plus pour que ce big-band minimaliste vous attire sur le dance-floor ! \n  \nhttps://www.youtube.com/watch?v=mVjBe78Umik  \nhttps://www.youtube.com/watch?v=uFFhJBoj6uI  \nhttps://soundcloud.com/user-457226936
URL:https://lapistouflerie.com/index.php/programmation/the-pomodors/
LOCATION:La Pistouflerie\, Cassagnabère-Tournas\, 31420\, France
ATTACH;FMTTYPE=image/jpeg:https://lapistouflerie.com/wp-content/uploads/2026/03/Pomodors-dalton-Turin-scaled.jpg
ORGANIZER;CN="La Pistouflerie":MAILTO:lapistouflerie@gmail.com
END:VEVENT
BEGIN:VEVENT
DTSTART;TZID=Europe/Paris:20260613T210000
DTEND;TZID=Europe/Paris:20260613T233000
DTSTAMP:20260420T122052
CREATED:20260323T075228Z
LAST-MODIFIED:20260323T075228Z
UID:1657-1781384400-1781393400@lapistouflerie.com
SUMMARY:GiGiGi
DESCRIPTION:ALTERNATIVE ROCK JAZZ FONDANT \nGiGiGi tisse un son singulier où clarinettes basses\, guitares électriques et batteries s’entrelacent. Trois voix douces\, des rythmes frénétiques\, des mélodies pop et une tension constante entre douceur et chaos. Inspiré·es par Aphex Twin\, James Blake et Sam Gendel\, GiGiGi invente un langage libre\, imprévisible et intensément personnel. \n  \nhttps://www.youtube.com/watch?v=tVOIrbH8vk8 \nhttps://www.youtube.com/watch?v=X_5V7R6sRvU  \nhttps://soundcloud.com/gigigi-musique/sets/pappapero  \nhttps://soundcloud.com/gigigi-musique/03-eea_master-3?in=gigigi-musique/sets/pappapero  \nhttps://www.instagram.com/gigigi.igigig/  \n 
URL:https://lapistouflerie.com/index.php/programmation/gigigi/
LOCATION:La Pistouflerie\, Cassagnabère-Tournas\, 31420\, France
ATTACH;FMTTYPE=image/jpeg:https://lapistouflerie.com/wp-content/uploads/2026/03/Gigigi-scaled.jpg
ORGANIZER;CN="La Pistouflerie":MAILTO:lapistouflerie@gmail.com
END:VEVENT
BEGIN:VEVENT
DTSTART;TZID=Europe/Paris:20260627T193000
DTEND;TZID=Europe/Paris:20260627T233000
DTSTAMP:20260420T122052
CREATED:20260323T074822Z
LAST-MODIFIED:20260323T074822Z
UID:1652-1782588600-1782603000@lapistouflerie.com
SUMMARY:La Muerte Liviana
DESCRIPTION:MINIMALISTE / MODAL / POLYRYTHMIQUE \nLa Muerte Liviana (“la mort légère”) est un quintet toulousain prog-minimaliste / modal-polyrythmique teinté d’influences traditionnelles du monde\, notamment du sud d’Amérique Latine\, caractérisé par ses paroles en espagnol et son instrumentation atypique : Piano\, vielle à roue\, chant et percussion\, basse/guitare\, batterie. Émergeant de compositions d’Adrián Moroni\, également pianiste du groupe\, La Muerte Liviana a maturé à travers le jeu des différent.e.s musiciens et musiciennes\, forgeant minutieusement son essence. Les chants en espagnol se mêlent à une musique au son hypnotique\, à la polyrythmie savoureuse et finement dosée\, portée par la couleur particulière de la vielle à roue et la luminosité du piano. \n  \nhttps://www.youtube.com/watch?v=8Y3E9w8D2s4  \nhttps://music.youtube.com/playlist?list=OLAK5uy_k-3E0RxB1K7PhbE6ubXlPPWWGbUZ1Gyu8
URL:https://lapistouflerie.com/index.php/programmation/la-muerte-liviana/
LOCATION:La Pistouflerie\, Cassagnabère-Tournas\, 31420\, France
ATTACH;FMTTYPE=image/jpeg:https://lapistouflerie.com/wp-content/uploads/2026/03/la_muerte_liviana-scaled.jpg
ORGANIZER;CN="La Pistouflerie":MAILTO:lapistouflerie@gmail.com
END:VEVENT
END:VCALENDAR